BEGIN:VCALENDAR
VERSION:2.0
PRODID:-//Jugendzentren in Göttingen - ECPv6.15.20//NONSGML v1.0//EN
CALSCALE:GREGORIAN
METHOD:PUBLISH
X-WR-CALNAME:Jugendzentren in Göttingen
X-ORIGINAL-URL:https://jugendserver-goettingen.de
X-WR-CALDESC:Veranstaltungen für Jugendzentren in Göttingen
REFRESH-INTERVAL;VALUE=DURATION:PT1H
X-Robots-Tag:noindex
X-PUBLISHED-TTL:PT1H
BEGIN:VTIMEZONE
TZID:Europe/Berlin
BEGIN:DAYLIGHT
TZOFFSETFROM:+0100
TZOFFSETTO:+0200
TZNAME:CEST
DTSTART:20160327T010000
END:DAYLIGHT
BEGIN:STANDARD
TZOFFSETFROM:+0200
TZOFFSETTO:+0100
TZNAME:CET
DTSTART:20161030T010000
END:STANDARD
BEGIN:DAYLIGHT
TZOFFSETFROM:+0100
TZOFFSETTO:+0200
TZNAME:CEST
DTSTART:20170326T010000
END:DAYLIGHT
BEGIN:STANDARD
TZOFFSETFROM:+0200
TZOFFSETTO:+0100
TZNAME:CET
DTSTART:20171029T010000
END:STANDARD
BEGIN:DAYLIGHT
TZOFFSETFROM:+0100
TZOFFSETTO:+0200
TZNAME:CEST
DTSTART:20180325T010000
END:DAYLIGHT
BEGIN:STANDARD
TZOFFSETFROM:+0200
TZOFFSETTO:+0100
TZNAME:CET
DTSTART:20181028T010000
END:STANDARD
BEGIN:DAYLIGHT
TZOFFSETFROM:+0100
TZOFFSETTO:+0200
TZNAME:CEST
DTSTART:20190331T010000
END:DAYLIGHT
BEGIN:STANDARD
TZOFFSETFROM:+0200
TZOFFSETTO:+0100
TZNAME:CET
DTSTART:20191027T010000
END:STANDARD
BEGIN:DAYLIGHT
TZOFFSETFROM:+0100
TZOFFSETTO:+0200
TZNAME:CEST
DTSTART:20200329T010000
END:DAYLIGHT
BEGIN:STANDARD
TZOFFSETFROM:+0200
TZOFFSETTO:+0100
TZNAME:CET
DTSTART:20201025T010000
END:STANDARD
BEGIN:DAYLIGHT
TZOFFSETFROM:+0100
TZOFFSETTO:+0200
TZNAME:CEST
DTSTART:20210328T010000
END:DAYLIGHT
BEGIN:STANDARD
TZOFFSETFROM:+0200
TZOFFSETTO:+0100
TZNAME:CET
DTSTART:20211031T010000
END:STANDARD
BEGIN:DAYLIGHT
TZOFFSETFROM:+0100
TZOFFSETTO:+0200
TZNAME:CEST
DTSTART:20220327T010000
END:DAYLIGHT
BEGIN:STANDARD
TZOFFSETFROM:+0200
TZOFFSETTO:+0100
TZNAME:CET
DTSTART:20221030T010000
END:STANDARD
BEGIN:DAYLIGHT
TZOFFSETFROM:+0100
TZOFFSETTO:+0200
TZNAME:CEST
DTSTART:20230326T010000
END:DAYLIGHT
BEGIN:STANDARD
TZOFFSETFROM:+0200
TZOFFSETTO:+0100
TZNAME:CET
DTSTART:20231029T010000
END:STANDARD
BEGIN:DAYLIGHT
TZOFFSETFROM:+0100
TZOFFSETTO:+0200
TZNAME:CEST
DTSTART:20240331T010000
END:DAYLIGHT
BEGIN:STANDARD
TZOFFSETFROM:+0200
TZOFFSETTO:+0100
TZNAME:CET
DTSTART:20241027T010000
END:STANDARD
BEGIN:DAYLIGHT
TZOFFSETFROM:+0100
TZOFFSETTO:+0200
TZNAME:CEST
DTSTART:20250330T010000
END:DAYLIGHT
BEGIN:STANDARD
TZOFFSETFROM:+0200
TZOFFSETTO:+0100
TZNAME:CET
DTSTART:20251026T010000
END:STANDARD
BEGIN:DAYLIGHT
TZOFFSETFROM:+0100
TZOFFSETTO:+0200
TZNAME:CEST
DTSTART:20260329T010000
END:DAYLIGHT
BEGIN:STANDARD
TZOFFSETFROM:+0200
TZOFFSETTO:+0100
TZNAME:CET
DTSTART:20261025T010000
END:STANDARD
BEGIN:DAYLIGHT
TZOFFSETFROM:+0100
TZOFFSETTO:+0200
TZNAME:CEST
DTSTART:20270328T010000
END:DAYLIGHT
BEGIN:STANDARD
TZOFFSETFROM:+0200
TZOFFSETTO:+0100
TZNAME:CET
DTSTART:20271031T010000
END:STANDARD
END:VTIMEZONE
BEGIN:VEVENT
DTSTART;TZID=Europe/Berlin:20260306T183000
DTEND;TZID=Europe/Berlin:20260306T183000
DTSTAMP:20260424T082811
CREATED:20260224T170655Z
LAST-MODIFIED:20260224T170655Z
UID:10000070-1772821800-1772821800@jugendserver-goettingen.de
SUMMARY:Casino-Abend im UJZ Weende
DESCRIPTION:Es ist wieder soweit!\nUnser beliebter Casino-Abend im UJZ steht wieder an! \nFreut euch auf einen spannenden Abend mit Karten\, Würfeln und jeder Menge Casino-Vibes – natürlich ohne echtes Geld\, dafür mit coolen Preisen für die Gewinner*innen\nWer im passenden Outfit kommt\, startet sogar mit kleinen Vorteilen\n \n6. März 2026\nab 18:30 Uhr\nUJZ Weende\nfür Jugendliche ab 14 Jahren \nVorbeikommen lohnt sich immer!\nWir freuen uns auf euch
URL:https://jugendserver-goettingen.de/event/casino-abend-im-ujz-weende/
LOCATION:UJZ Weende\, Am Weendespring 1b\, Göttingen\, 37077\, Deutschland
CATEGORIES:Unabhängiges Jugendzentrum Weende
ATTACH;FMTTYPE=image/jpeg:https://jugendserver-goettingen.de/wp-content/uploads/2026/02/casino.jpg
ORGANIZER;CN="UJZ Weende":MAILTO:mail@ujz-weende.de
END:VEVENT
BEGIN:VEVENT
DTSTART;TZID=Europe/Berlin:20251219T163000
DTEND;TZID=Europe/Berlin:20251219T163000
DTSTAMP:20260424T082811
CREATED:20251207T184534Z
LAST-MODIFIED:20251207T184534Z
UID:10000068-1766161800-1766161800@jugendserver-goettingen.de
SUMMARY:Christmas Chilling im UJZ Weende!
DESCRIPTION:Liebe Jugendliche\, wir laden euch herzlich zu unserer kleinen\, gemütlichen Weihnachtsfeier ein! Kommt vorbei und entspannt ein bisschen mit uns! \nEuch erwarten: \n\nkleine Überraschungen\nKekse & Kakao\nein weihnachtliches Quiz\n\n…und natürlich eine entspannte\, festliche Stimmung! \nKommt vorbei – wir freuen uns auf euch!
URL:https://jugendserver-goettingen.de/event/christmas-chilling-im-ujz-weende/
LOCATION:UJZ Weende\, Am Weendespring 1b\, Göttingen\, 37077\, Deutschland
CATEGORIES:Unabhängiges Jugendzentrum Weende
ATTACH;FMTTYPE=image/jpeg:https://jugendserver-goettingen.de/wp-content/uploads/2025/12/christmaschilling.jpg
ORGANIZER;CN="UJZ Weende":MAILTO:mail@ujz-weende.de
END:VEVENT
BEGIN:VEVENT
DTSTART;TZID=Europe/Berlin:20251204T153000
DTEND;TZID=Europe/Berlin:20251204T153000
DTSTAMP:20260424T082811
CREATED:20250912T234043Z
LAST-MODIFIED:20250912T234043Z
UID:10000063-1764862200-1764862200@jugendserver-goettingen.de
SUMMARY:Nähworkshop im UJZ
DESCRIPTION:Kreativ werden\, Neues lernen & Spaß haben!\nIm Jugendzentrum Weende startet wieder unser Nähworkshop – für alle\, die Lust haben\, eigene Ideen mit Stoff & Faden umzusetzen.
URL:https://jugendserver-goettingen.de/event/naehworkshop-im-ujz/2025-12-04/
LOCATION:UJZ Weende\, Am Weendespring 1b\, Göttingen\, 37077\, Deutschland
CATEGORIES:Unabhängiges Jugendzentrum Weende
ATTACH;FMTTYPE=image/jpeg:https://jugendserver-goettingen.de/wp-content/uploads/2025/09/naehworkshop.jpg
ORGANIZER;CN="UJZ Weende":MAILTO:mail@ujz-weende.de
END:VEVENT
BEGIN:VEVENT
DTSTART;TZID=Europe/Berlin:20251128T140000
DTEND;TZID=Europe/Berlin:20251128T180000
DTSTAMP:20260424T082811
CREATED:20251028T133656Z
LAST-MODIFIED:20251028T133656Z
UID:10000067-1764338400-1764352800@jugendserver-goettingen.de
SUMMARY:Kreativtag für Mädchen*
DESCRIPTION:Der Mädchenarbeitskreis organisiert am Freitag\, 28.11. im UJZ Weende einen Kreativtag. \nFreut Euch auf eine Menge Spaß und viele kreative Angebote!\nFür das leibliche Wohl ist gesorgt!\nWIR FREUEN UNS AUF EUCH! \nAnmeldung über euer Kinder- und Jugendhaus!
URL:https://jugendserver-goettingen.de/event/kreativtag-fuer-maedchen/
LOCATION:UJZ Weende\, Am Weendespring 1b\, Göttingen\, 37077\, Deutschland
CATEGORIES:alle
ATTACH;FMTTYPE=image/jpeg:https://jugendserver-goettingen.de/wp-content/uploads/2025/10/kreativtag.jpg
END:VEVENT
BEGIN:VEVENT
DTSTART;TZID=Europe/Berlin:20251120T153000
DTEND;TZID=Europe/Berlin:20251120T153000
DTSTAMP:20260424T082811
CREATED:20250912T233829Z
LAST-MODIFIED:20250912T233829Z
UID:10000060-1763652600-1763652600@jugendserver-goettingen.de
SUMMARY:Nähworkshop im UJZ | nur für Mädchen
DESCRIPTION:Kreativ werden\, Neues lernen & Spaß haben!\nIm Jugendzentrum Weende startet wieder unser Nähworkshop – für alle\, die Lust haben\, eigene Ideen mit Stoff & Faden umzusetzen.
URL:https://jugendserver-goettingen.de/event/naehworkshop-im-ujz-nur-fuer-maedchen/2025-11-20/
LOCATION:UJZ Weende\, Am Weendespring 1b\, Göttingen\, 37077\, Deutschland
CATEGORIES:Unabhängiges Jugendzentrum Weende
ATTACH;FMTTYPE=image/jpeg:https://jugendserver-goettingen.de/wp-content/uploads/2025/09/naehworkshop.jpg
ORGANIZER;CN="UJZ Weende":MAILTO:mail@ujz-weende.de
END:VEVENT
BEGIN:VEVENT
DTSTART;TZID=Europe/Berlin:20251106T153000
DTEND;TZID=Europe/Berlin:20251106T153000
DTSTAMP:20260424T082811
CREATED:20250912T234043Z
LAST-MODIFIED:20250912T234043Z
UID:10000062-1762443000-1762443000@jugendserver-goettingen.de
SUMMARY:Nähworkshop im UJZ
DESCRIPTION:Kreativ werden\, Neues lernen & Spaß haben!\nIm Jugendzentrum Weende startet wieder unser Nähworkshop – für alle\, die Lust haben\, eigene Ideen mit Stoff & Faden umzusetzen.
URL:https://jugendserver-goettingen.de/event/naehworkshop-im-ujz/2025-11-06/
LOCATION:UJZ Weende\, Am Weendespring 1b\, Göttingen\, 37077\, Deutschland
CATEGORIES:Unabhängiges Jugendzentrum Weende
ATTACH;FMTTYPE=image/jpeg:https://jugendserver-goettingen.de/wp-content/uploads/2025/09/naehworkshop.jpg
ORGANIZER;CN="UJZ Weende":MAILTO:mail@ujz-weende.de
END:VEVENT
BEGIN:VEVENT
DTSTART;TZID=Europe/Berlin:20251030T163000
DTEND;TZID=Europe/Berlin:20251030T163000
DTSTAMP:20260424T082811
CREATED:20251009T142458Z
LAST-MODIFIED:20251009T142458Z
UID:10000066-1761841800-1761841800@jugendserver-goettingen.de
SUMMARY:Horrorhaus im UJZ Weende
DESCRIPTION:HORROR HAUS 2025 \nTraust du dich …?\nAm 30.10.2025 öffnet das HORROR HAUS im UJZ Weende seine Türen.  \nBring deine Freunde mit.
URL:https://jugendserver-goettingen.de/event/horrorhaus-im-ujz-weende/
LOCATION:UJZ Weende\, Am Weendespring 1b\, Göttingen\, 37077\, Deutschland
CATEGORIES:Unabhängiges Jugendzentrum Weende
ATTACH;FMTTYPE=image/jpeg:https://jugendserver-goettingen.de/wp-content/uploads/2025/10/ujz_halloween.jpg
ORGANIZER;CN="UJZ Weende":MAILTO:mail@ujz-weende.de
END:VEVENT
BEGIN:VEVENT
DTSTART;TZID=Europe/Berlin:20251023T153000
DTEND;TZID=Europe/Berlin:20251023T153000
DTSTAMP:20260424T082811
CREATED:20251007T134811Z
LAST-MODIFIED:20251007T134828Z
UID:10000059-1761233400-1761233400@jugendserver-goettingen.de
SUMMARY:Nähworkshop im UJZ | nur für Mädchen
DESCRIPTION:Kreativ werden\, Neues lernen & Spaß haben!\nIm Jugendzentrum Weende startet wieder unser Nähworkshop – für alle\, die Lust haben\, eigene Ideen mit Stoff & Faden umzusetzen.
URL:https://jugendserver-goettingen.de/event/naehworkshop-im-ujz-nur-fuer-maedchen-2/
LOCATION:UJZ Weende\, Am Weendespring 1b\, Göttingen\, 37077\, Deutschland
CATEGORIES:Unabhängiges Jugendzentrum Weende
ATTACH;FMTTYPE=image/jpeg:https://jugendserver-goettingen.de/wp-content/uploads/2025/09/naehworkshop.jpg
ORGANIZER;CN="UJZ Weende":MAILTO:mail@ujz-weende.de
END:VEVENT
BEGIN:VEVENT
DTSTART;TZID=Europe/Berlin:20251009T153000
DTEND;TZID=Europe/Berlin:20251009T153000
DTSTAMP:20260424T082811
CREATED:20250912T234043Z
LAST-MODIFIED:20250912T234043Z
UID:10000061-1760023800-1760023800@jugendserver-goettingen.de
SUMMARY:Nähworkshop im UJZ
DESCRIPTION:Kreativ werden\, Neues lernen & Spaß haben!\nIm Jugendzentrum Weende startet wieder unser Nähworkshop – für alle\, die Lust haben\, eigene Ideen mit Stoff & Faden umzusetzen.
URL:https://jugendserver-goettingen.de/event/naehworkshop-im-ujz/2025-10-09/
LOCATION:UJZ Weende\, Am Weendespring 1b\, Göttingen\, 37077\, Deutschland
CATEGORIES:Unabhängiges Jugendzentrum Weende
ATTACH;FMTTYPE=image/jpeg:https://jugendserver-goettingen.de/wp-content/uploads/2025/09/naehworkshop.jpg
ORGANIZER;CN="UJZ Weende":MAILTO:mail@ujz-weende.de
END:VEVENT
BEGIN:VEVENT
DTSTART;TZID=Europe/Berlin:20250925T153000
DTEND;TZID=Europe/Berlin:20250925T153000
DTSTAMP:20260424T082811
CREATED:20250912T233829Z
LAST-MODIFIED:20250912T233829Z
UID:10000058-1758814200-1758814200@jugendserver-goettingen.de
SUMMARY:Nähworkshop im UJZ | nur für Mädchen
DESCRIPTION:Kreativ werden\, Neues lernen & Spaß haben!\nIm Jugendzentrum Weende startet wieder unser Nähworkshop – für alle\, die Lust haben\, eigene Ideen mit Stoff & Faden umzusetzen.
URL:https://jugendserver-goettingen.de/event/naehworkshop-im-ujz-nur-fuer-maedchen/2025-09-25/
LOCATION:UJZ Weende\, Am Weendespring 1b\, Göttingen\, 37077\, Deutschland
CATEGORIES:Unabhängiges Jugendzentrum Weende
ATTACH;FMTTYPE=image/jpeg:https://jugendserver-goettingen.de/wp-content/uploads/2025/09/naehworkshop.jpg
ORGANIZER;CN="UJZ Weende":MAILTO:mail@ujz-weende.de
END:VEVENT
BEGIN:VEVENT
DTSTART;TZID=Europe/Berlin:20250919T160000
DTEND;TZID=Europe/Berlin:20250919T200000
DTSTAMP:20260424T082811
CREATED:20250912T233300Z
LAST-MODIFIED:20250912T234528Z
UID:10000065-1758297600-1758312000@jugendserver-goettingen.de
SUMMARY:Mariokart-Turnier im UJZ Weende
DESCRIPTION:Jo was geht ab! Du gegen Mario? Auf gehts! Wir planen ein Mariokart-Turnier für euch. Kommt vorbei und meldet euch bis zum 19.9. um 16 Uhr an! Wir freuen uns auf euch.
URL:https://jugendserver-goettingen.de/event/mariokart-turnier-im-ujz-weende/
LOCATION:UJZ Weende\, Am Weendespring 1b\, Göttingen\, 37077\, Deutschland
CATEGORIES:Unabhängiges Jugendzentrum Weende
ATTACH;FMTTYPE=image/jpeg:https://jugendserver-goettingen.de/wp-content/uploads/2025/09/mariokart.jpg
ORGANIZER;CN="UJZ Weende":MAILTO:mail@ujz-weende.de
END:VEVENT
BEGIN:VEVENT
DTSTART;TZID=Europe/Berlin:20250616T153000
DTEND;TZID=Europe/Berlin:20250616T190000
DTSTAMP:20260424T082811
CREATED:20250505T095654Z
LAST-MODIFIED:20250514T111817Z
UID:10000055-1750087800-1750100400@jugendserver-goettingen.de
SUMMARY:Nähworkshop im UJZ Weende
DESCRIPTION:Dieser Termin ist nur für alle. \nDo it Yourself! Kreativworkshop mit Nadel und Faden
URL:https://jugendserver-goettingen.de/event/naehworkshop-im-ujz-weende-3/2025-06-16/
LOCATION:UJZ Weende\, Am Weendespring 1b\, Göttingen\, 37077\, Deutschland
CATEGORIES:Unabhängiges Jugendzentrum Weende
ATTACH;FMTTYPE=image/jpeg:https://jugendserver-goettingen.de/wp-content/uploads/2025/05/2020-naehworkshop-logo.jpg
ORGANIZER;CN="UJZ Weende":MAILTO:mail@ujz-weende.de
END:VEVENT
BEGIN:VEVENT
DTSTART;TZID=Europe/Berlin:20250602T153000
DTEND;TZID=Europe/Berlin:20250602T190000
DTSTAMP:20260424T082811
CREATED:20250514T111734Z
LAST-MODIFIED:20250514T111734Z
UID:10000051-1748878200-1748890800@jugendserver-goettingen.de
SUMMARY:Nähworkshop im UJZ Weende
DESCRIPTION:Dieser Termin ist nur für Mädchen. \nDo it Yourself! Kreativworkshop mit Nadel und Faden
URL:https://jugendserver-goettingen.de/event/naehworkshop-im-ujz-weende-2-2/
LOCATION:UJZ Weende\, Am Weendespring 1b\, Göttingen\, 37077\, Deutschland
CATEGORIES:Unabhängiges Jugendzentrum Weende
ATTACH;FMTTYPE=image/jpeg:https://jugendserver-goettingen.de/wp-content/uploads/2025/05/2020-naehworkshop-logo.jpg
ORGANIZER;CN="UJZ Weende":MAILTO:mail@ujz-weende.de
END:VEVENT
BEGIN:VEVENT
DTSTART;TZID=Europe/Berlin:20250519T153000
DTEND;TZID=Europe/Berlin:20250519T190000
DTSTAMP:20260424T082811
CREATED:20250505T095654Z
LAST-MODIFIED:20250514T111817Z
UID:10000054-1747668600-1747681200@jugendserver-goettingen.de
SUMMARY:Nähworkshop im UJZ Weende
DESCRIPTION:Dieser Termin ist nur für alle. \nDo it Yourself! Kreativworkshop mit Nadel und Faden
URL:https://jugendserver-goettingen.de/event/naehworkshop-im-ujz-weende-3/2025-05-19/
LOCATION:UJZ Weende\, Am Weendespring 1b\, Göttingen\, 37077\, Deutschland
CATEGORIES:Unabhängiges Jugendzentrum Weende
ATTACH;FMTTYPE=image/jpeg:https://jugendserver-goettingen.de/wp-content/uploads/2025/05/2020-naehworkshop-logo.jpg
ORGANIZER;CN="UJZ Weende":MAILTO:mail@ujz-weende.de
END:VEVENT
BEGIN:VEVENT
DTSTART;TZID=Europe/Berlin:20250505T153000
DTEND;TZID=Europe/Berlin:20250505T190000
DTSTAMP:20260424T082811
CREATED:20250505T095226Z
LAST-MODIFIED:20250505T095307Z
UID:10000049-1746459000-1746471600@jugendserver-goettingen.de
SUMMARY:Nähworkshop im UJZ Weende
DESCRIPTION:Dieser Termin ist nur für Mädchen. \nDo it Yourself! Kreativworkshop mit Nadel und Faden
URL:https://jugendserver-goettingen.de/event/naehworkshop-im-ujz-weende-2/
LOCATION:UJZ Weende\, Am Weendespring 1b\, Göttingen\, 37077\, Deutschland
CATEGORIES:Unabhängiges Jugendzentrum Weende
ATTACH;FMTTYPE=image/jpeg:https://jugendserver-goettingen.de/wp-content/uploads/2025/05/2020-naehworkshop-logo.jpg
ORGANIZER;CN="UJZ Weende":MAILTO:mail@ujz-weende.de
END:VEVENT
BEGIN:VEVENT
DTSTART;TZID=Europe/Berlin:20250425T180000
DTEND;TZID=Europe/Berlin:20250425T200000
DTSTAMP:20260424T082811
CREATED:20250424T111011Z
LAST-MODIFIED:20250424T111011Z
UID:10000048-1745604000-1745611200@jugendserver-goettingen.de
SUMMARY:Quiztime im UJZ
DESCRIPTION:Jeopardy Quiz | Snacks & Süßes | kleine Preise \nDiesen Freitag findet mal wieder ein Quiz Abend statt! Meldet euch an und seid dabei!
URL:https://jugendserver-goettingen.de/event/quiztime-im-ujz/
LOCATION:UJZ Weende\, Am Weendespring 1b\, Göttingen\, 37077\, Deutschland
CATEGORIES:Unabhängiges Jugendzentrum Weende
ATTACH;FMTTYPE=image/jpeg:https://jugendserver-goettingen.de/wp-content/uploads/2025/04/quiz.jpg
ORGANIZER;CN="UJZ Weende":MAILTO:mail@ujz-weende.de
END:VEVENT
BEGIN:VEVENT
DTSTART;TZID=Europe/Berlin:20250307T183000
DTEND;TZID=Europe/Berlin:20250307T223000
DTSTAMP:20260424T082811
CREATED:20250305T120052Z
LAST-MODIFIED:20250305T120052Z
UID:10000044-1741372200-1741386600@jugendserver-goettingen.de
SUMMARY:Vegas in Weende – CASINOABEND
DESCRIPTION:Hallo Freunde vom Glamour\, Glitzer\, Lights und Zocken \nSeid dabei. Vegas in Weende.\nWir starten den 11. Casinoabend im „Casino am Parkbad“ \nZuerst können ihr bei einem Coktail die Location kennenlernen.\nDie Bank hat geöffnet und die Startjettons(Chips) können geholt werden.\nWer in Casinooutfit (Hemd\,Krawatte\,Jacket) oder Vegasstyleklamotten (glittzer\,bunt) erscheint\nbekommt einen Aufschlag auf die Startchips. \nUm 19.00 Uhr öffnen dann die Tische\, an denen folgendes gespielt wird: \nRoulette – Texas Holdem – Black Jack \nJe nachdem wie viele da sind\, läuft dann die Spielzeit.\nWir peilen an\, dass die Veranstaltung gegen 22.30+ Uhr zu Ende geht. \nEs wird nicht um Geld gespielt! Der Spaß am Zocken zählt. \nAls Gäste sind eingeladen\, ältere Jugendliche ab 14 Jahren und junge Erwachsene.\nAußerdem öffnen wir den Casinoabend\, auch für Freunde und Freundinnen des UJZ’s und alle Gruppenmitglieder. \nDer Eintritt ist frei. \nFalls ihr zu diesem coolen Event kommen möchtet\, meldet euch zwecks Planung\nbis Do 23.11.2023 beim UJZ Team oder auf unserer Homepage unter www.ujz-weende.de/event/casinoabend-9-2-3/ an.
URL:https://jugendserver-goettingen.de/event/vegas-in-weende-casinoabend/
LOCATION:UJZ Weende\, Am Weendespring 1b\, Göttingen\, 37077\, Deutschland
CATEGORIES:Unabhängiges Jugendzentrum Weende
ATTACH;FMTTYPE=image/jpeg:https://jugendserver-goettingen.de/wp-content/uploads/2025/03/plakat.jpg
ORGANIZER;CN="UJZ Weende":MAILTO:mail@ujz-weende.de
END:VEVENT
BEGIN:VEVENT
DTSTART;TZID=Europe/Berlin:20200629T153000
DTEND;TZID=Europe/Berlin:20200629T200000
DTSTAMP:20260424T082811
CREATED:20200221T115042Z
LAST-MODIFIED:20200221T115042Z
UID:10000026-1593444600-1593460800@jugendserver-goettingen.de
SUMMARY:Nähworkshop im UJZ Weende
DESCRIPTION:Im Unabhängigen Jugendzentrum Weende können Mädchen ab 12 Jahre regelmäßig (einmal im Monat) an einem Nähworkshop teilnehmen.
URL:https://jugendserver-goettingen.de/event/naehworkshop-im-ujz-weende/2020-06-29/
LOCATION:UJZ Weende\, Am Weendespring 1b\, Göttingen\, 37077\, Deutschland
ATTACH;FMTTYPE=image/jpeg:https://jugendserver-goettingen.de/wp-content/uploads/2020/02/naehworkshop.jpg
ORGANIZER;CN="UJZ Weende":MAILTO:mail@ujz-weende.de
END:VEVENT
BEGIN:VEVENT
DTSTART;TZID=Europe/Berlin:20200525T153000
DTEND;TZID=Europe/Berlin:20200525T200000
DTSTAMP:20260424T082811
CREATED:20200221T115042Z
LAST-MODIFIED:20200221T115042Z
UID:10000025-1590420600-1590436800@jugendserver-goettingen.de
SUMMARY:Nähworkshop im UJZ Weende
DESCRIPTION:Im Unabhängigen Jugendzentrum Weende können Mädchen ab 12 Jahre regelmäßig (einmal im Monat) an einem Nähworkshop teilnehmen.
URL:https://jugendserver-goettingen.de/event/naehworkshop-im-ujz-weende/2020-05-25/
LOCATION:UJZ Weende\, Am Weendespring 1b\, Göttingen\, 37077\, Deutschland
ATTACH;FMTTYPE=image/jpeg:https://jugendserver-goettingen.de/wp-content/uploads/2020/02/naehworkshop.jpg
ORGANIZER;CN="UJZ Weende":MAILTO:mail@ujz-weende.de
END:VEVENT
BEGIN:VEVENT
DTSTART;TZID=Europe/Berlin:20200427T153000
DTEND;TZID=Europe/Berlin:20200427T200000
DTSTAMP:20260424T082811
CREATED:20200221T115042Z
LAST-MODIFIED:20200221T115042Z
UID:10000024-1588001400-1588017600@jugendserver-goettingen.de
SUMMARY:Nähworkshop im UJZ Weende
DESCRIPTION:Im Unabhängigen Jugendzentrum Weende können Mädchen ab 12 Jahre regelmäßig (einmal im Monat) an einem Nähworkshop teilnehmen.
URL:https://jugendserver-goettingen.de/event/naehworkshop-im-ujz-weende/2020-04-27/
LOCATION:UJZ Weende\, Am Weendespring 1b\, Göttingen\, 37077\, Deutschland
ATTACH;FMTTYPE=image/jpeg:https://jugendserver-goettingen.de/wp-content/uploads/2020/02/naehworkshop.jpg
ORGANIZER;CN="UJZ Weende":MAILTO:mail@ujz-weende.de
END:VEVENT
BEGIN:VEVENT
DTSTART;TZID=Europe/Berlin:20200330T153000
DTEND;TZID=Europe/Berlin:20200330T200000
DTSTAMP:20260424T082811
CREATED:20200221T115042Z
LAST-MODIFIED:20200221T115042Z
UID:10000023-1585582200-1585598400@jugendserver-goettingen.de
SUMMARY:Nähworkshop im UJZ Weende
DESCRIPTION:Im Unabhängigen Jugendzentrum Weende können Mädchen ab 12 Jahre regelmäßig (einmal im Monat) an einem Nähworkshop teilnehmen.
URL:https://jugendserver-goettingen.de/event/naehworkshop-im-ujz-weende/2020-03-30/
LOCATION:UJZ Weende\, Am Weendespring 1b\, Göttingen\, 37077\, Deutschland
ATTACH;FMTTYPE=image/jpeg:https://jugendserver-goettingen.de/wp-content/uploads/2020/02/naehworkshop.jpg
ORGANIZER;CN="UJZ Weende":MAILTO:mail@ujz-weende.de
END:VEVENT
BEGIN:VEVENT
DTSTART;TZID=Europe/Berlin:20200224T153000
DTEND;TZID=Europe/Berlin:20200224T200000
DTSTAMP:20260424T082811
CREATED:20200221T115042Z
LAST-MODIFIED:20200221T115042Z
UID:10000022-1582558200-1582574400@jugendserver-goettingen.de
SUMMARY:Nähworkshop im UJZ Weende
DESCRIPTION:Im Unabhängigen Jugendzentrum Weende können Mädchen ab 12 Jahre regelmäßig (einmal im Monat) an einem Nähworkshop teilnehmen.
URL:https://jugendserver-goettingen.de/event/naehworkshop-im-ujz-weende/2020-02-24/
LOCATION:UJZ Weende\, Am Weendespring 1b\, Göttingen\, 37077\, Deutschland
ATTACH;FMTTYPE=image/jpeg:https://jugendserver-goettingen.de/wp-content/uploads/2020/02/naehworkshop.jpg
ORGANIZER;CN="UJZ Weende":MAILTO:mail@ujz-weende.de
END:VEVENT
BEGIN:VEVENT
DTSTART;TZID=Europe/Berlin:20200222T180000
DTEND;TZID=Europe/Berlin:20200222T220000
DTSTAMP:20260424T082811
CREATED:20200216T141034Z
LAST-MODIFIED:20200216T141431Z
UID:10000020-1582394400-1582408800@jugendserver-goettingen.de
SUMMARY:3. Casinoabend im UJZ Weende
DESCRIPTION:Zuerst könnt ihr bei einem Cocktail die Location kennenlernen und die Startjettons (Chips) abholen. Wer in Casinooutfit oder in Klamotten im Vegasstyle erscheint\, bekommt einen Aufschlag auf die Startchips. \nUm 19.00 Uhr eröffnen dann die Tische\, an denen dann folgendes gespielt\nwerden kann: \n\nRoulette\nPokern\nWürfeln (auf Würfelpunkte setzen)\n\nEs wird nicht um Geld gespielt! Es geht nur um den Spaß am Zocken. \nDer Eintritt ist frei. Die Cocktails und Getränke werden gegen\nSelbstkostenpreis abgegeben. \nFalls ihr zu diesem coolen Event kommen möchtet\, meldet euch wenn es\ngeht zwecks Planung bis Mi 20.02.2020 im UJZ oder auf unserer Homepage an.
URL:https://jugendserver-goettingen.de/event/3-casinoabend-im-ujz-weende/
LOCATION:UJZ Weende\, Am Weendespring 1b\, Göttingen\, 37077\, Deutschland
ATTACH;FMTTYPE=image/jpeg:https://jugendserver-goettingen.de/wp-content/uploads/2020/02/casinoabend-plakat.jpg
ORGANIZER;CN="UJZ Weende":MAILTO:mail@ujz-weende.de
END:VEVENT
BEGIN:VEVENT
DTSTART;TZID=Europe/Berlin:20190927T140000
DTEND;TZID=Europe/Berlin:20190927T140000
DTSTAMP:20260424T082811
CREATED:20190911T182346Z
LAST-MODIFIED:20190911T182346Z
UID:10000018-1569592800-1569592800@jugendserver-goettingen.de
SUMMARY:Neueröffnung Jugendzentrum Weende
DESCRIPTION:Das Unabhängige Jugendzentrum Weende ist umgezogen. Wir freuen uns über unser neues Domizil neben dem Weender Freibad und möchten euch zur offiziellen Eröffnung einladen. Freut euch auf \n\n45 Jahre Fotoshow\nFlur Galerie\nRäume Check\nMuffins\, Tee und Kaffee\nNeues Logo\nCocktails und Grillen
URL:https://jugendserver-goettingen.de/event/neueroeffnung-jugendzentrum-weende/
LOCATION:UJZ Weende\, Am Weendespring 1b\, Göttingen\, 37077\, Deutschland
ATTACH;FMTTYPE=image/jpeg:https://jugendserver-goettingen.de/wp-content/uploads/2019/09/ujz-eröffnungsplakat-it-1a.jpg
ORGANIZER;CN="UJZ Weende":MAILTO:mail@ujz-weende.de
END:VEVENT
BEGIN:VEVENT
DTSTART;TZID=Europe/Berlin:20171027T160000
DTEND;TZID=Europe/Berlin:20171027T210000
DTSTAMP:20260424T082811
CREATED:20190625T110219Z
LAST-MODIFIED:20190625T110219Z
UID:10000011-1509120000-1509138000@jugendserver-goettingen.de
SUMMARY:PS4 Fifa 2018 Turnier
DESCRIPTION:Goßes FIFA 2018 Turnier auf der PS4 – mit Siegerpremien.
URL:https://jugendserver-goettingen.de/event/ps4-fifa-2018-turnier/
LOCATION:UJZ Weende\, Am Weendespring 1b\, Göttingen\, 37077\, Deutschland
ATTACH;FMTTYPE=image/jpeg:https://jugendserver-goettingen.de/wp-content/uploads/2019/06/fifa-turnier-herbst-2017.jpg
END:VEVENT
END:VCALENDAR