BEGIN:VCALENDAR
VERSION:2.0
PRODID:-//Jugendzentren in Göttingen - ECPv6.15.20//NONSGML v1.0//EN
CALSCALE:GREGORIAN
METHOD:PUBLISH
X-ORIGINAL-URL:https://jugendserver-goettingen.de
X-WR-CALDESC:Veranstaltungen für Jugendzentren in Göttingen
REFRESH-INTERVAL;VALUE=DURATION:PT1H
X-Robots-Tag:noindex
X-PUBLISHED-TTL:PT1H
BEGIN:VTIMEZONE
TZID:Europe/Berlin
BEGIN:DAYLIGHT
TZOFFSETFROM:+0100
TZOFFSETTO:+0200
TZNAME:CEST
DTSTART:20160327T010000
END:DAYLIGHT
BEGIN:STANDARD
TZOFFSETFROM:+0200
TZOFFSETTO:+0100
TZNAME:CET
DTSTART:20161030T010000
END:STANDARD
BEGIN:DAYLIGHT
TZOFFSETFROM:+0100
TZOFFSETTO:+0200
TZNAME:CEST
DTSTART:20170326T010000
END:DAYLIGHT
BEGIN:STANDARD
TZOFFSETFROM:+0200
TZOFFSETTO:+0100
TZNAME:CET
DTSTART:20171029T010000
END:STANDARD
BEGIN:DAYLIGHT
TZOFFSETFROM:+0100
TZOFFSETTO:+0200
TZNAME:CEST
DTSTART:20180325T010000
END:DAYLIGHT
BEGIN:STANDARD
TZOFFSETFROM:+0200
TZOFFSETTO:+0100
TZNAME:CET
DTSTART:20181028T010000
END:STANDARD
BEGIN:DAYLIGHT
TZOFFSETFROM:+0100
TZOFFSETTO:+0200
TZNAME:CEST
DTSTART:20190331T010000
END:DAYLIGHT
BEGIN:STANDARD
TZOFFSETFROM:+0200
TZOFFSETTO:+0100
TZNAME:CET
DTSTART:20191027T010000
END:STANDARD
BEGIN:DAYLIGHT
TZOFFSETFROM:+0100
TZOFFSETTO:+0200
TZNAME:CEST
DTSTART:20200329T010000
END:DAYLIGHT
BEGIN:STANDARD
TZOFFSETFROM:+0200
TZOFFSETTO:+0100
TZNAME:CET
DTSTART:20201025T010000
END:STANDARD
BEGIN:DAYLIGHT
TZOFFSETFROM:+0100
TZOFFSETTO:+0200
TZNAME:CEST
DTSTART:20210328T010000
END:DAYLIGHT
BEGIN:STANDARD
TZOFFSETFROM:+0200
TZOFFSETTO:+0100
TZNAME:CET
DTSTART:20211031T010000
END:STANDARD
BEGIN:DAYLIGHT
TZOFFSETFROM:+0100
TZOFFSETTO:+0200
TZNAME:CEST
DTSTART:20220327T010000
END:DAYLIGHT
BEGIN:STANDARD
TZOFFSETFROM:+0200
TZOFFSETTO:+0100
TZNAME:CET
DTSTART:20221030T010000
END:STANDARD
BEGIN:DAYLIGHT
TZOFFSETFROM:+0100
TZOFFSETTO:+0200
TZNAME:CEST
DTSTART:20230326T010000
END:DAYLIGHT
BEGIN:STANDARD
TZOFFSETFROM:+0200
TZOFFSETTO:+0100
TZNAME:CET
DTSTART:20231029T010000
END:STANDARD
END:VTIMEZONE
BEGIN:VEVENT
DTSTART;TZID=Europe/Berlin:20220917T153000
DTEND;TZID=Europe/Berlin:20220917T220000
DTSTAMP:20260424T083457
CREATED:20220902T132938Z
LAST-MODIFIED:20220902T140244Z
UID:10000039-1663428600-1663452000@jugendserver-goettingen.de
SUMMARY:Umsonst und draußen – Konzert für Kinder und Jugendliche
DESCRIPTION:Am 17. September veranstalten die freien wie städtischen Kinder- und Jugendhäuser Göttingens einen Tag mit verschiedenen Musik Acts für Kinder und Jugendliche im Alter von 6-25 Jahren. Der Tag wird draußen mit einem bunten Programm stattfinden. \nZu sehen gibt es ab 16.00 Uhr den Zauberer Hannes Lülf. Um 17.30 Uhr startet dann das Musikprogramm mit Pink Poison (Punkrock) sowie Monsters of Bullshit (Crossover) und Sir Mantis (Rap aus Berlin). \nAb 15.30 Uhr startet für die Jüngeren neben der musikalischen Unterhaltung ein spannendes Programm\, bei dem sich am Spielemobil ausgetobt oder sich an Buttons und Siebdruck versucht werden kann. \nDie Veranstaltung endet um 22.00 Uhr. Die Kinder- und Jugendhäuser freuen sich darauf\, euch wieder persönlich zu sehen und mit euch zusammen zu feiern! \n \n \n 
URL:https://jugendserver-goettingen.de/event/umsonst-und-draussen-konzert-fuer-kinder-und-jugendliche/
LOCATION:Jugendzentrum Innenstadt (Juzi)\, Bürgerstarße 41\, Göttingen\, 37073\, Deutschland
CATEGORIES:alle
ATTACH;FMTTYPE=image/jpeg:https://jugendserver-goettingen.de/wp-content/uploads/2022/09/Plakat_Konzert_Druck.jpg
GEO:51.5291389;9.9339153
X-APPLE-STRUCTURED-LOCATION;VALUE=URI;X-ADDRESS=Jugendzentrum Innenstadt (Juzi) Bürgerstarße 41 Göttingen 37073 Deutschland;X-APPLE-RADIUS=500;X-TITLE=Bürgerstarße 41:geo:9.9339153,51.5291389
END:VEVENT
BEGIN:VEVENT
DTSTART;TZID=Europe/Berlin:20170819T130000
DTEND;TZID=Europe/Berlin:20170819T220000
DTSTAMP:20260424T083457
CREATED:20170612T202513Z
LAST-MODIFIED:20170612T205750Z
UID:10000006-1503147600-1503180000@jugendserver-goettingen.de
SUMMARY:35-Jahre Juzi Festival - Open Air
DESCRIPTION:Das Juzi wird 35 Jahre und feiert an zwei Tagen mit einem großen Festival.
URL:https://jugendserver-goettingen.de/event/35-jahre-juzi-festival-open-air/
LOCATION:Jugendzentrum Innenstadt (Juzi)\, Bürgerstarße 41\, Göttingen\, 37073\, Deutschland
ATTACH;FMTTYPE=image/jpeg:https://jugendserver-goettingen.de/wp-content/uploads/2017/06/307_gross.jpg
GEO:51.5291389;9.9339153
X-APPLE-STRUCTURED-LOCATION;VALUE=URI;X-ADDRESS=Jugendzentrum Innenstadt (Juzi) Bürgerstarße 41 Göttingen 37073 Deutschland;X-APPLE-RADIUS=500;X-TITLE=Bürgerstarße 41:geo:9.9339153,51.5291389
END:VEVENT
BEGIN:VEVENT
DTSTART;TZID=Europe/Berlin:20170818T200000
DTEND;TZID=Europe/Berlin:20170818T200000
DTSTAMP:20260424T083457
CREATED:20170612T202232Z
LAST-MODIFIED:20170612T205724Z
UID:10000007-1503086400-1503086400@jugendserver-goettingen.de
SUMMARY:35-Jahre Juzi Festival - Konzert im Ballsaal
DESCRIPTION:Das Juzi wird 35 Jahre und feiert an zwei Tagen mit einem großen Festival.
URL:https://jugendserver-goettingen.de/event/35-jahre-juzi-festival-konzert-im-ballsaal/
LOCATION:Jugendzentrum Innenstadt (Juzi)\, Bürgerstarße 41\, Göttingen\, 37073\, Deutschland
ATTACH;FMTTYPE=image/jpeg:https://jugendserver-goettingen.de/wp-content/uploads/2017/06/307_gross.jpg
GEO:51.5291389;9.9339153
X-APPLE-STRUCTURED-LOCATION;VALUE=URI;X-ADDRESS=Jugendzentrum Innenstadt (Juzi) Bürgerstarße 41 Göttingen 37073 Deutschland;X-APPLE-RADIUS=500;X-TITLE=Bürgerstarße 41:geo:9.9339153,51.5291389
END:VEVENT
END:VCALENDAR