BEGIN:VCALENDAR
VERSION:2.0
PRODID:-//Jugendzentren in Göttingen - ECPv6.15.20//NONSGML v1.0//EN
CALSCALE:GREGORIAN
METHOD:PUBLISH
X-WR-CALNAME:Jugendzentren in Göttingen
X-ORIGINAL-URL:https://jugendserver-goettingen.de
X-WR-CALDESC:Veranstaltungen für Jugendzentren in Göttingen
REFRESH-INTERVAL;VALUE=DURATION:PT1H
X-Robots-Tag:noindex
X-PUBLISHED-TTL:PT1H
BEGIN:VTIMEZONE
TZID:Europe/Berlin
BEGIN:DAYLIGHT
TZOFFSETFROM:+0100
TZOFFSETTO:+0200
TZNAME:CEST
DTSTART:20180325T010000
END:DAYLIGHT
BEGIN:STANDARD
TZOFFSETFROM:+0200
TZOFFSETTO:+0100
TZNAME:CET
DTSTART:20181028T010000
END:STANDARD
BEGIN:DAYLIGHT
TZOFFSETFROM:+0100
TZOFFSETTO:+0200
TZNAME:CEST
DTSTART:20190331T010000
END:DAYLIGHT
BEGIN:STANDARD
TZOFFSETFROM:+0200
TZOFFSETTO:+0100
TZNAME:CET
DTSTART:20191027T010000
END:STANDARD
BEGIN:DAYLIGHT
TZOFFSETFROM:+0100
TZOFFSETTO:+0200
TZNAME:CEST
DTSTART:20200329T010000
END:DAYLIGHT
BEGIN:STANDARD
TZOFFSETFROM:+0200
TZOFFSETTO:+0100
TZNAME:CET
DTSTART:20201025T010000
END:STANDARD
BEGIN:DAYLIGHT
TZOFFSETFROM:+0100
TZOFFSETTO:+0200
TZNAME:CEST
DTSTART:20210328T010000
END:DAYLIGHT
BEGIN:STANDARD
TZOFFSETFROM:+0200
TZOFFSETTO:+0100
TZNAME:CET
DTSTART:20211031T010000
END:STANDARD
BEGIN:DAYLIGHT
TZOFFSETFROM:+0100
TZOFFSETTO:+0200
TZNAME:CEST
DTSTART:20220327T010000
END:DAYLIGHT
BEGIN:STANDARD
TZOFFSETFROM:+0200
TZOFFSETTO:+0100
TZNAME:CET
DTSTART:20221030T010000
END:STANDARD
BEGIN:DAYLIGHT
TZOFFSETFROM:+0100
TZOFFSETTO:+0200
TZNAME:CEST
DTSTART:20230326T010000
END:DAYLIGHT
BEGIN:STANDARD
TZOFFSETFROM:+0200
TZOFFSETTO:+0100
TZNAME:CET
DTSTART:20231029T010000
END:STANDARD
BEGIN:DAYLIGHT
TZOFFSETFROM:+0100
TZOFFSETTO:+0200
TZNAME:CEST
DTSTART:20240331T010000
END:DAYLIGHT
BEGIN:STANDARD
TZOFFSETFROM:+0200
TZOFFSETTO:+0100
TZNAME:CET
DTSTART:20241027T010000
END:STANDARD
BEGIN:DAYLIGHT
TZOFFSETFROM:+0100
TZOFFSETTO:+0200
TZNAME:CEST
DTSTART:20250330T010000
END:DAYLIGHT
BEGIN:STANDARD
TZOFFSETFROM:+0200
TZOFFSETTO:+0100
TZNAME:CET
DTSTART:20251026T010000
END:STANDARD
BEGIN:DAYLIGHT
TZOFFSETFROM:+0100
TZOFFSETTO:+0200
TZNAME:CEST
DTSTART:20260329T010000
END:DAYLIGHT
BEGIN:STANDARD
TZOFFSETFROM:+0200
TZOFFSETTO:+0100
TZNAME:CET
DTSTART:20261025T010000
END:STANDARD
END:VTIMEZONE
BEGIN:VEVENT
DTSTART;TZID=Europe/Berlin:20250913T110000
DTEND;TZID=Europe/Berlin:20250913T160000
DTSTAMP:20260424T094647
CREATED:20250912T234405Z
LAST-MODIFIED:20250912T234405Z
UID:10000064-1757761200-1757779200@jugendserver-goettingen.de
SUMMARY:Jugend in Aktion | Wir sind dabei
DESCRIPTION:Die Göttinger Jugendarbeit stellt sich vor. Alle Kinder- und Jugendhäuser sind dabei.
URL:https://jugendserver-goettingen.de/event/jugend-in-aktion-wir-sind-dabei/
LOCATION:Gänseliesel\, Markt\, Göttingen\, 37073\, Deutschland
CATEGORIES:alle
ATTACH;FMTTYPE=image/jpeg:https://jugendserver-goettingen.de/wp-content/uploads/2025/09/1-1.jpg
END:VEVENT
BEGIN:VEVENT
DTSTART;TZID=Europe/Berlin:20190629T110000
DTEND;TZID=Europe/Berlin:20190629T160000
DTSTAMP:20260424T094647
CREATED:20190605T193516Z
LAST-MODIFIED:20190628T212150Z
UID:10000001-1561806000-1561824000@jugendserver-goettingen.de
SUMMARY:KiJu on Tour – Aktionstag am Gänseliesel
DESCRIPTION:Wir\, das sind Göttinger Kinder- und Jugendhäuser\, laden euch am Samstag\, den 29.6. zu einem Aktionstag rund um das Gänseliesel in der Göttinger Innenstadt ein. Zentrale Attraktion wird ein professioneller Bullriding-Simulator sein\, auf dem ihr euer Geschick im Gleichgewichthalten ausprobieren könnt. Außerdem wird es zum Beispiel Kinderschminken\, Dosenwerfen oder alkoholfreie Cocktails geben. \nWir freuen uns auf euch! Kommt vorbei.
URL:https://jugendserver-goettingen.de/event/kiju-on-tour-aktionstag-am-gaenseliesel/
LOCATION:Gänseliesel\, Markt\, Göttingen\, 37073\, Deutschland
CATEGORIES:alle
ATTACH;FMTTYPE=image/jpeg:https://jugendserver-goettingen.de/wp-content/uploads/2019/06/kijuontourplakat2019.jpg
END:VEVENT
END:VCALENDAR